BEGIN:VCALENDAR
VERSION:2.0
PRODID:Imitheme.com 
BEGIN:VEVENT
UID:20260423T0023011769853592
DTSTAMP;TZID=UTC:2026-04-23 00:23:01
DTSTART;TZID=America/Los_Angeles:20250712T000000
DTEND;TZID=America/Los_Angeles:20250712T000000
SUMMARY:Brautag im Museum
LOCATION:
DESCRIPTION:
URL:https://schwarzbraeu.at/eventer/bierseminar/
END:VEVENT
END:VCALENDAR
